BEGIN:VCALENDAR
VERSION:2.0
PRODID:-//hacksw/handcal//NONSGML v1.0//EN
BEGIN:VEVENT
DTSTAMP:20221123T183000Z
DTSTART:20221123T183000Z
DTEND:20221123T183000Z
LOCATION:Neunkirchen-Seelscheid, 53819, Deutschland
SUMMARY:Vorstandssitzung
END:VEVENT
END:VCALENDAR
